BEGIN:VCALENDAR
VERSION:2.0
PRODID:-//UN Global Compact Ghana - ECPv5.8.2//NONSGML v1.0//EN
CALSCALE:GREGORIAN
METHOD:PUBLISH
X-WR-CALNAME:UN Global Compact Ghana
X-ORIGINAL-URL:https://www.unglobalcompactghana.com
X-WR-CALDESC:Events for UN Global Compact Ghana
BEGIN:VTIMEZONE
TZID:UTC
BEGIN:STANDARD
TZOFFSETFROM:+0000
TZOFFSETTO:+0000
TZNAME:UTC
DTSTART:20230101T000000
END:STANDARD
END:VTIMEZONE
BEGIN:VEVENT
DTSTART;TZID=UTC:20230824T093000
DTEND;TZID=UTC:20230824T120000
DTSTAMP:20230827T122248
CREATED:20230821T102414Z
LAST-MODIFIED:20230821T102414Z
UID:1239-1692869400-1692878400@www.unglobalcompactghana.com
SUMMARY:National Roundtable Discussion on Living Wage
DESCRIPTION:
URL:https://www.unglobalcompactghana.com/cal-event/national-roundtable-discussion-on-living-wage/
LOCATION:TUC Conference Hall\, Accra\, Ghana
ORGANIZER;CN="UN%20Global%20Compact%20Network%20Ghana":MAILTO:unglobalcompactghana@gmail.com
END:VEVENT
END:VCALENDAR