BEGIN:VCALENDAR
VERSION:2.0
PRODID:-//UN Global Compact Ghana - ECPv5.8.2//NONSGML v1.0//EN
CALSCALE:GREGORIAN
METHOD:PUBLISH
X-WR-CALNAME:UN Global Compact Ghana
X-ORIGINAL-URL:https://www.unglobalcompactghana.com
X-WR-CALDESC:Events for UN Global Compact Ghana
BEGIN:VTIMEZONE
TZID:UTC
BEGIN:STANDARD
TZOFFSETFROM:+0000
TZOFFSETTO:+0000
TZNAME:UTC
DTSTART:20210101T000000
END:STANDARD
END:VTIMEZONE
BEGIN:VEVENT
DTSTART;TZID=UTC:20221110T080000
DTEND;TZID=UTC:20221110T170000
DTSTAMP:20230827T124733
CREATED:20221103T153214Z
LAST-MODIFIED:20221115T091328Z
UID:1055-1668067200-1668099600@www.unglobalcompactghana.com
SUMMARY:Event in a Series
DESCRIPTION:For example\, let’s say you have an event that happens weekly every Monday. You fire up a new event in WordPress\, fill in the content\, then move to the recurring event settings. \nRecurring events is a feature that lets you create an event once\, then repeat it as many times as you need for as long as you want in any sort of pattern you like. \n  \n 
URL:https://www.unglobalcompactghana.com/cal-event/new-event-2/
LOCATION:East Legon\, Lagos Avenue\, Accra\, 00233\, Ghana
ATTACH;FMTTYPE=image/webp:https://www.unglobalcompactghana.com/wp-content/uploads/2022/11/culinary-hero-1.webp
END:VEVENT
BEGIN:VEVENT
DTSTART;TZID=UTC:20221110T080000
DTEND;TZID=UTC:20221110T170000
DTSTAMP:20230827T124733
CREATED:20221103T144336Z
LAST-MODIFIED:20221114T190009Z
UID:1048-1668067200-1668099600@www.unglobalcompactghana.com
SUMMARY:Standard Event (No RSVP or Tickets)
DESCRIPTION:This is where the description goes for events. You can add additional media\, conference schedules\, and more here. \n  \n 
URL:https://www.unglobalcompactghana.com/cal-event/new-event/
LOCATION:East Legon\, Lagos Avenue\, Accra\, 00233\, Ghana
ATTACH;FMTTYPE=image/webp:https://www.unglobalcompactghana.com/wp-content/uploads/2022/11/conference.webp
END:VEVENT
BEGIN:VEVENT
DTSTART;TZID=UTC:20221004T080000
DTEND;TZID=UTC:20221006T170000
DTSTAMP:20230827T124733
CREATED:20220602T152955Z
LAST-MODIFIED:20221114T190742Z
UID:851-1664870400-1665075600@www.unglobalcompactghana.com
SUMMARY:Regional Meetings
DESCRIPTION:A hybrid event is one that is both virtual and in-person\, so you might have attendees that are physically sitting in the audience\, and others who are watching it live online. \nHybrid events are a feature of our Virtual Events add-on\, which supports both Zoom and YouTube Live. This event is an example using YouTube Live\, which is an available option in the WordPress editor when creating a new event.
URL:https://www.unglobalcompactghana.com/cal-event/regional-meetings/
ATTACH;FMTTYPE=image/webp:https://www.unglobalcompactghana.com/wp-content/uploads/2022/06/alex-kotliarskyi-ourQHRTE2IM-unsplash-2048x1365-1.webp
ORGANIZER;CN="UN%20Global%20Compact":MAILTO:leaderssummit@unglobalcompact.org
END:VEVENT
BEGIN:VEVENT
DTSTART;TZID=UTC:20220602T080000
DTEND;TZID=UTC:20220602T170000
DTSTAMP:20230827T124733
CREATED:20220602T152904Z
LAST-MODIFIED:20220602T152919Z
UID:849-1654156800-1654189200@www.unglobalcompactghana.com
SUMMARY:Uniting Business Africa - TBD
DESCRIPTION:
URL:https://www.unglobalcompactghana.com/cal-event/uniting-business-africa-tbd/
END:VEVENT
BEGIN:VEVENT
DTSTART;TZID=UTC:20220601T080000
DTEND;TZID=UTC:20220602T170000
DTSTAMP:20230827T124733
CREATED:20220602T152752Z
LAST-MODIFIED:20220609T162904Z
UID:847-1654070400-1654189200@www.unglobalcompactghana.com
SUMMARY:Leaders Summit 2022
DESCRIPTION:
URL:https://www.unglobalcompactghana.com/cal-event/leaders-summit-2022/
ORGANIZER;CN="UN%20Global%20Compact":MAILTO:leaderssummit@unglobalcompact.org
END:VEVENT
BEGIN:VEVENT
DTSTART;TZID=UTC:20220328T080000
DTEND;TZID=UTC:20220331T170000
DTSTAMP:20230827T124733
CREATED:20220602T152615Z
LAST-MODIFIED:20220602T152615Z
UID:843-1648454400-1648746000@www.unglobalcompactghana.com
SUMMARY:Annual Local Network Forum (ALNF)
DESCRIPTION:
URL:https://www.unglobalcompactghana.com/cal-event/annual-local-network-forum-alnf/
END:VEVENT
BEGIN:VEVENT
DTSTART;TZID=UTC:20220327T080000
DTEND;TZID=UTC:20220327T170000
DTSTAMP:20230827T124733
CREATED:20220602T152717Z
LAST-MODIFIED:20220602T152717Z
UID:845-1648368000-1648400400@www.unglobalcompactghana.com
SUMMARY:Dialogue on the Women’s Empowerment Principles
DESCRIPTION:Dialogue on the Women’s Empowerment Principles: The Bewsys Case Study
URL:https://www.unglobalcompactghana.com/cal-event/dialogue-on-the-womens-empowerment-principles/
END:VEVENT
BEGIN:VEVENT
DTSTART;TZID=UTC:20220315T080000
DTEND;TZID=UTC:20220315T170000
DTSTAMP:20230827T124733
CREATED:20220602T152526Z
LAST-MODIFIED:20220602T152526Z
UID:841-1647331200-1647363600@www.unglobalcompactghana.com
SUMMARY:Target Gender Equality Live
DESCRIPTION:
URL:https://www.unglobalcompactghana.com/cal-event/target-gender-equality-live/
END:VEVENT
BEGIN:VEVENT
DTSTART;TZID=UTC:20220302T080000
DTEND;TZID=UTC:20220302T170000
DTSTAMP:20230827T124733
CREATED:20220602T152449Z
LAST-MODIFIED:20220602T152449Z
UID:839-1646208000-1646240400@www.unglobalcompactghana.com
SUMMARY:Target Gender Equality Module 3
DESCRIPTION:Target Gender Equality Module 3: Measuring and communicating progress
URL:https://www.unglobalcompactghana.com/cal-event/target-gender-equality-module-3/
END:VEVENT
BEGIN:VEVENT
DTSTART;TZID=UTC:20220209T080000
DTEND;TZID=UTC:20220209T170000
DTSTAMP:20230827T124733
CREATED:20220602T152336Z
LAST-MODIFIED:20220602T152336Z
UID:837-1644393600-1644426000@www.unglobalcompactghana.com
SUMMARY:Target Gender Equality Module 2
DESCRIPTION:Target Gender Equality Module 2: Strategies for Success
URL:https://www.unglobalcompactghana.com/cal-event/target-gender-equality-module-2/
END:VEVENT
BEGIN:VEVENT
DTSTART;TZID=UTC:20220119T080000
DTEND;TZID=UTC:20220119T170000
DTSTAMP:20230827T124733
CREATED:20220602T152117Z
LAST-MODIFIED:20220609T162712Z
UID:834-1642579200-1642611600@www.unglobalcompactghana.com
SUMMARY:Target Gender Equality Module 1
DESCRIPTION:Target Gender Equality Module 1 – Setting Targets & Defining Ambition
URL:https://www.unglobalcompactghana.com/cal-event/target-gender-equality-module-1/
ORGANIZER;CN="UN%20Global%20Compact":MAILTO:leaderssummit@unglobalcompact.org
END:VEVENT
BEGIN:VEVENT
DTSTART;VALUE=DATE:20211210
DTEND;VALUE=DATE:20211211
DTSTAMP:20230827T124733
CREATED:20210611T155348Z
LAST-MODIFIED:20210611T155348Z
UID:778-1639094400-1639180799@www.unglobalcompactghana.com
SUMMARY:Human Rights Day
DESCRIPTION:Human Rights Day is observed every year on 10 December — the day the United Nations General Assembly adopted\, in 1948\, the Universal Declaration of Human Rights (UDHR). The UDHR is a milestone document that proclaims the inalienable rights which everyone is entitled to as a human being – regardless of race\, colour\, religion\, sex\, language\, political or other opinion\, national or social origin\, property\, birth or other status. Available in more than 500 languages\, it is the most translated document in the world.
URL:https://www.unglobalcompactghana.com/cal-event/human-rights-day/
END:VEVENT
BEGIN:VEVENT
DTSTART;VALUE=DATE:20211202
DTEND;VALUE=DATE:20211203
DTSTAMP:20230827T124733
CREATED:20211129T143237Z
LAST-MODIFIED:20211129T143237Z
UID:815-1638403200-1638489599@www.unglobalcompactghana.com
SUMMARY:Uniting Business Africa
DESCRIPTION:Uniting Business Africa is a one-day virtual forum that will bring together African  and global leaders from business\, civil society\, Government\, Global Compact Local Networks and the United Nations. The  event will  inform\, inspire and catalyse individual and collaborative action by all stakeholders\,  to strengthen responsible businesses practices\, build societal resilience and contribute to the realization of the Sustainable Development Goals and the African Union’s Agenda 2063. \nThe event will also introduce the UN Global Compact’s Africa Strategy for 2021-2023\, which has been developed to drive increased impact on the continent over the next three years\, with an emphasis on Africa’s priorities and peoples. This strategy is a call to action for Africa’s businesses. We  invite the private sector\, as well other Stakeholders across the continent\, to join us as we accelerate progress on the 2030 Agenda for Sustainable Development  and Agenda 2063\, the Africa We Want.  \nAfrica’s future is well worth the investment. \nRegister now: http://bit.ly/3HopHo3
URL:https://www.unglobalcompactghana.com/cal-event/uniting-business-africa/
END:VEVENT
BEGIN:VEVENT
DTSTART;TZID=UTC:20211125T093000
DTEND;TZID=UTC:20211125T093000
DTSTAMP:20230827T124733
CREATED:20211112T204201Z
LAST-MODIFIED:20211112T204201Z
UID:809-1637832600-1637832600@www.unglobalcompactghana.com
SUMMARY:Green Finance Dialogue
DESCRIPTION:“The Green Finance Dialogue: “Connecting Businesses to Green Investment Opportunities” is brought to you by the UN Global Compact Network Ghana and Arocha Ghana. \nThe objectives of the event are:\n•	To create awareness on green investments opportunities;\n•	To provide information on how businesses can access these opportunities;\n•	To encourage businesses to adopt greener ways of doing business;\n•	To create a platform for knowledge and experience sharing. \nKindly contact Mina Pokuaa Agyemang on mina.agyemang@arocha.org / 0244437099 for any further enquiries.
URL:https://www.unglobalcompactghana.com/cal-event/green-finance-dialogue/
END:VEVENT
BEGIN:VEVENT
DTSTART;TZID=UTC:20211117T080000
DTEND;TZID=UTC:20211117T140000
DTSTAMP:20230827T124733
CREATED:20211112T203041Z
LAST-MODIFIED:20211112T204417Z
UID:805-1637136000-1637157600@www.unglobalcompactghana.com
SUMMARY:The UN Global Compact Network Ghana's Launch of the UN Global Compact Africa Strategy
DESCRIPTION:Under the theme “The Importance of Sustainability in the Decade of Action: Transforming Businesses to become more Resilient and Competitive”\, the program will focus on 3 key areas:\n• A discussion on the importance of sustainability of business as a key driver of corporate leadership on the Sustainable Development Goals using the Ten Principles;   \n• An introduction of the UN Global Compact as the leading resource for businesses and a showcase of its new Africa Strategy and offerings for businesses to achieve sustainability and finally;  \n • A session on how companies need to be sustainable to take full advantage of the Africa Continental Free Trade Area with its opportunities.   \nKindly contact Ms. Rhoda Boateng via rhoda.boateng@unglobalcompactghana.com or on 0505526586 for further inquiries.
URL:https://www.unglobalcompactghana.com/cal-event/the-un-global-compact-network-ghanas-launch-of-the-un-global-compact-africa-strategy/
END:VEVENT
BEGIN:VEVENT
DTSTART;VALUE=DATE:20211024
DTEND;VALUE=DATE:20211025
DTSTAMP:20230827T124733
CREATED:20210611T154915Z
LAST-MODIFIED:20210611T154915Z
UID:776-1635033600-1635119999@www.unglobalcompactghana.com
SUMMARY:United Nations Day
DESCRIPTION:UN Day marks the anniversary of the entry into force in 1945 of the UN Charter. With the ratification of this founding document by the majority of its signatories\, including the five permanent members of the Security Council\, the United Nations officially came into being. \nThere is no other global organization with the legitimacy\, convening power and normative impact of the United Nations. Today\, the urgency for all countries to come together\, to fulfil the promise of the nations united\, has rarely been greater. \n24 October has been celebrated as United Nations Day since 1948. In 1971\, the United Nations General Assembly recommended that the day be observed by Member States as a public holiday.
URL:https://www.unglobalcompactghana.com/cal-event/united-nations-day/
END:VEVENT
BEGIN:VEVENT
DTSTART;VALUE=DATE:20211017
DTEND;VALUE=DATE:20211018
DTSTAMP:20230827T124733
CREATED:20210611T153747Z
LAST-MODIFIED:20210611T153747Z
UID:774-1634428800-1634515199@www.unglobalcompactghana.com
SUMMARY:International Day for the Eradication of Poverty
DESCRIPTION:In a world characterized by an unprecedented level of economic development\, technological means and financial resources\, that millions of persons are living in extreme poverty is a moral outrage. Poverty is not solely an economic issue\, but rather a multidimensional phenomenon that encompasses a lack of both income and the basic capabilities to live in dignity. \nPersons living in poverty experience many interrelated and mutually reinforcing deprivations that prevent them from realizing their rights and perpetuate their poverty\, including: \n\ndangerous work conditions\nunsafe housing\nlack of nutritious food\nunequal access to justice\nlack of political power\nlimited access to health care\n\nThis year marks the 27th anniversary of the declaration by the General Assembly\, in its resolution 47/196 of 22 December 1992\, of 17 October as the International Day for the Eradication of Poverty. This year also marks the 32nd anniversary of the Call to Action by Father Joseph Wresinski — which inspired the observance of October 17 as the World Day for Overcoming Extreme Poverty — and the recognition by the United Nations of the day as the International Day for the Eradication of Poverty.
URL:https://www.unglobalcompactghana.com/cal-event/international-day-for-the-eradication-of-poverty/
END:VEVENT
BEGIN:VEVENT
DTSTART;VALUE=DATE:20211016
DTEND;VALUE=DATE:20211017
DTSTAMP:20230827T124733
CREATED:20210611T152541Z
LAST-MODIFIED:20210611T152541Z
UID:772-1634342400-1634428799@www.unglobalcompactghana.com
SUMMARY:World Food Day
DESCRIPTION:World Food Day – It’s your day!\n\n\n\n\n\n\nCollective action across 150 countries is what makes World Food Day one of the most celebrated days of the UN calendar. Hundreds of events and outreach activities bring together governments\, businesses\, NGOs\, the media\, and general public. They promote worldwide awareness and action for those who suffer from hunger and for the need to ensure healthy diets for all. \n#WorldFoodDay 2021 will be marked a second time while countries around the world deal with the widespread effects of the global Covid-19 pandemic. It’s a time to look into the future we need to build together. \n 
URL:https://www.unglobalcompactghana.com/cal-event/world-food-day/
END:VEVENT
BEGIN:VEVENT
DTSTART;VALUE=DATE:20211013
DTEND;VALUE=DATE:20211014
DTSTAMP:20230827T124733
CREATED:20210614T135327Z
LAST-MODIFIED:20210614T135327Z
UID:782-1634083200-1634169599@www.unglobalcompactghana.com
SUMMARY:YOUNG SDG INNOVATORS SUMMIT
DESCRIPTION:This Young SDG Leaders Summit will be the first Summit to celebrate and engage young corporate\nleaders and entrepreneurs to create the solutions for the future of sustainable business. This\ninaugural Summit is designed to be exclusively virtual year-after-year.
URL:https://www.unglobalcompactghana.com/cal-event/young-sdg-innovators-summit/
END:VEVENT
BEGIN:VEVENT
DTSTART;TZID=UTC:20210920T000000
DTEND;TZID=UTC:20210922T000000
DTSTAMP:20230827T124733
CREATED:20210614T134952Z
LAST-MODIFIED:20210614T134952Z
UID:780-1632096000-1632268800@www.unglobalcompactghana.com
SUMMARY:UNITING BUSINESS LIVE
DESCRIPTION:A virtual summit held on the sidelines of the UN General Assembly Week\, Uniting Business LIVE (UBL) hosts the Private Sector Forum\, Global Impact Forum and SDG Business Forum (in partnership with International Chamber of Commerce and UN Department of Economic and Social Affairs). Uniting Business LIVE aligns with the themes of the General Assembly and amplifies unified global actions on the SDGs.
URL:https://www.unglobalcompactghana.com/cal-event/uniting-business-live/
END:VEVENT
BEGIN:VEVENT
DTSTART;VALUE=DATE:20210918
DTEND;VALUE=DATE:20210919
DTSTAMP:20230827T124733
CREATED:20210611T151455Z
LAST-MODIFIED:20210611T151455Z
UID:769-1631923200-1632009599@www.unglobalcompactghana.com
SUMMARY:International Equal Pay Day
DESCRIPTION:Equal pay for work of equal value\nInternational Equal Pay Day represents the longstanding efforts towards the achievement of equal pay for work of equal value.  It further builds on the United Nations commitment to human rights and against all forms of discrimination\, including discrimination against women and girls. \nAcross all regions\, women are paid less than men\, with the gender pay gap estimated at 23 per cent globally. Gender equality and the empowerment of women and girls continues to be held back owing to the persistence of historical and structural unequal power relations between women and men\, poverty and inequalities and disadvantages in access to resources and opportunities that limit women’s and girls’ capabilities.  Progress on narrowing that gap has been slow.  While equal pay for men and women has been widely endorsed\, applying it in practice has been difficult. \nIn order to ensure that no one is left behind\, the Sustainable Development Goals (SDGs) address the need to achieve gender equality and the empowerment of all women and girls.  Furthermore\, the SDGs promote decent work and economic growth by seeking full and productive employment and decent work for all women and men\, including for young people and persons with disabilities\, and equal pay for work of equal value. Mainstreaming of a gender perspective is crucial in the implementation of the 2030 Agenda for Sustainable Development. \nAchieving equal pay is an important milestone for human rights and gender equality. It takes the effort of the entire world community and more work remains to be done. The United Nations\, including UN Women and the International Labour Organization (ILO) invites Members states and civil society\, women’s and community-based organizations and feminist groups\, as well as businesses and workers’ and employers’ organizations\, to promote equal pay for work of equal value and the economic empowerment of women and girls.
URL:https://www.unglobalcompactghana.com/cal-event/international-equal-pay-day/
END:VEVENT
BEGIN:VEVENT
DTSTART;VALUE=DATE:20210812
DTEND;VALUE=DATE:20210813
DTSTAMP:20230827T124733
CREATED:20210611T150724Z
LAST-MODIFIED:20210611T150724Z
UID:767-1628726400-1628812799@www.unglobalcompactghana.com
SUMMARY:International Youth Day
DESCRIPTION:International Youth Day (IYD) gives an opportunity to celebrate and mainstream young peoples’ voices\, actions and initiatives\, as well as their meaningful\, universal and equitable engagement. The commemoration will take the form of a podcast-style discussion that is hosted by youth for youth\, together with independently organized commemorations around the world that recognize the importance of youth participation in political\, economic and social life and processes.
URL:https://www.unglobalcompactghana.com/cal-event/international-youth-day/
END:VEVENT
BEGIN:VEVENT
DTSTART;VALUE=DATE:20210615
DTEND;VALUE=DATE:20210617
DTSTAMP:20230827T124733
CREATED:20210607T143424Z
LAST-MODIFIED:20210607T143424Z
UID:761-1623715200-1623887999@www.unglobalcompactghana.com
SUMMARY:UN Global Compact Leaders Summit: 2021
DESCRIPTION:The UN Global Compact 2021 Leaders Summit will elevate ambition for strategic collective action\, with focused objectives and clear paths to recovery from the continued climate crisis\, global pandemic\, economic disparities and social inequalities. The annual Summit will once again virtually convene more than 25\,000 leaders from business\, Government\, the UN\, and Civil Society\, to take stock of the state of progress\, highlight the areas for greater influence\, and drive collective action on focused issues to make lasting change. \nOnly through multi-stakeholder collaboration\, innovative thought leadership\, transparent reporting on progress and focused data driven initiatives can we get back on track.  Now\, more than ever before\, adherence to the Ten Principles and advancement of responsible business practices is essential for recovery and rebuilding a just\, equitable and resilient society. \nTogether\, we can unite business for a better world. \nRegister here: https://na.eventscloud.com/website/23790/registration_types-5/
URL:https://www.unglobalcompactghana.com/cal-event/un-global-compact-leaders-summit-2021/
ORGANIZER;CN="UN%20Global%20Compact":MAILTO:leaderssummit@unglobalcompact.org
END:VEVENT
BEGIN:VEVENT
DTSTART;VALUE=DATE:20210612
DTEND;VALUE=DATE:20210613
DTSTAMP:20230827T124733
CREATED:20210611T132308Z
LAST-MODIFIED:20210611T132308Z
UID:764-1623456000-1623542399@www.unglobalcompactghana.com
SUMMARY:World Day Against Child Labour
DESCRIPTION:This year’s World Day Against Child Labour focuses on action taken for the 2021 International Year for the Elimination of Child Labour. It is the first World Day since the universal ratification of the ILO’s Convention No. 182 on the Worst Forms of Child Labour\, and takes place at time when the COVID-19 crisis threatens to reverse years of progress in tackling the problem. \nIn June for the World Day\, the ILO and UNICEF will release new global estimates and trends on child labour (2016-2020)\, under the aegis of Alliance 8.7. The report will include an assessment of how the pace of progress towards ending child labour is likely to be affected by the COVID-19 pandemic and the unprecedented economic crisis that has accompanied it.
URL:https://www.unglobalcompactghana.com/cal-event/world-day-against-child-labour/
END:VEVENT
BEGIN:VEVENT
DTSTART;TZID=UTC:20210520T093000
DTEND;TZID=UTC:20210520T120000
DTSTAMP:20230827T124733
CREATED:20210517T110619Z
LAST-MODIFIED:20210517T110748Z
UID:751-1621503000-1621512000@www.unglobalcompactghana.com
SUMMARY:Committees' Official Induction and Leadership Election
DESCRIPTION:In this session\, the leaders of the UN Global Compact Network Ghana Committees will be elected.  The Committees will then be inducted officially to begin their activities.
URL:https://www.unglobalcompactghana.com/cal-event/committees-official-induction-and-leadership-election/
LOCATION:https://us02web.zoom.us/j/88025468427
END:VEVENT
BEGIN:VEVENT
DTSTART;TZID=UTC:20210331T090000
DTEND;TZID=UTC:20210331T103000
DTSTAMP:20230827T124733
CREATED:20210319T104315Z
LAST-MODIFIED:20210322T100420Z
UID:743-1617181200-1617186600@www.unglobalcompactghana.com
SUMMARY:Poverty Alleviation Workshop
DESCRIPTION:
URL:https://www.unglobalcompactghana.com/cal-event/poverty-alleviation-workshop/
END:VEVENT
BEGIN:VEVENT
DTSTART;TZID=UTC:20210323T090000
DTEND;TZID=UTC:20210323T101500
DTSTAMP:20230827T124733
CREATED:20210319T093816Z
LAST-MODIFIED:20210319T093816Z
UID:731-1616490000-1616494500@www.unglobalcompactghana.com
SUMMARY:WEPs Gender Gap Analysis Tool Demonstration
DESCRIPTION:This session will include an introduction to the Women’s Empowerment Principles\, a demonstration on how to use the WEPs Tool and an invitation to sign up to the Target Gender Equality Initiative. \nThe Women’s Empowerment Principles (WEPs) are a set of Principles offering guidance to business on how to promote gender equality and women’s empowerment in the workplace\, marketplace and community. Established by UN Global Compact and UN Women\, the WEPs are informed by international labour and human rights standards and grounded in the recognition that businesses have a stake in\, and a responsibility for\, gender equality and women’s empowerment. \nThe WEPs Tool is a business-driven tool designed to help companies from around the world assess gender equality performance across the workplace\, marketplace\, and community. \nRegister here to join us – https://us02web.zoom.us/webinar/register/WN_HDdjSK4-TFyakw3CvkKjLQ \n 
URL:https://www.unglobalcompactghana.com/cal-event/weps-gender-gap-analysis-tool-demonstration/
END:VEVENT
BEGIN:VEVENT
DTSTART;VALUE=DATE:20210225
DTEND;VALUE=DATE:20210226
DTSTAMP:20230827T124733
CREATED:20210204T120343Z
LAST-MODIFIED:20210211T085931Z
UID:578-1614211200-1614297599@www.unglobalcompactghana.com
SUMMARY:WEPs Gender Gap Analysis Tool and SDG Action Manager Training
DESCRIPTION:
URL:https://www.unglobalcompactghana.com/cal-event/weps-gender-gap-analysis-tool-and-sdg-action-manager-training/
END:VEVENT
BEGIN:VEVENT
DTSTART;TZID=UTC:20210218T090000
DTEND;TZID=UTC:20210218T110000
DTSTAMP:20230827T124733
CREATED:20210204T120316Z
LAST-MODIFIED:20210216T153100Z
UID:576-1613638800-1613646000@www.unglobalcompactghana.com
SUMMARY:West African Gender Equality Initiative: Engaging and Communicating with Stakeholders to Support Gender Equality
DESCRIPTION:
URL:https://www.unglobalcompactghana.com/cal-event/west-african-gender-equality-initiative/
END:VEVENT
BEGIN:VEVENT
DTSTART;VALUE=DATE:20210204
DTEND;VALUE=DATE:20210205
DTSTAMP:20230827T124733
CREATED:20210204T120257Z
LAST-MODIFIED:20210211T090022Z
UID:574-1612396800-1612483199@www.unglobalcompactghana.com
SUMMARY:Board Meeting
DESCRIPTION:
URL:https://www.unglobalcompactghana.com/cal-event/board-meeting/
END:VEVENT
END:VCALENDAR