BEGIN:VCALENDAR
VERSION:2.0
PRODID:-//UN Global Compact Ghana - ECPv5.8.2//NONSGML v1.0//EN
CALSCALE:GREGORIAN
METHOD:PUBLISH
X-WR-CALNAME:UN Global Compact Ghana
X-ORIGINAL-URL:https://www.unglobalcompactghana.com
X-WR-CALDESC:Events for UN Global Compact Ghana
BEGIN:VTIMEZONE
TZID:UTC
BEGIN:STANDARD
TZOFFSETFROM:+0000
TZOFFSETTO:+0000
TZNAME:UTC
DTSTART:20210101T000000
END:STANDARD
END:VTIMEZONE
BEGIN:VEVENT
DTSTART;VALUE=DATE:20211013
DTEND;VALUE=DATE:20211014
DTSTAMP:20230827T123156
CREATED:20210614T135327Z
LAST-MODIFIED:20210614T135327Z
UID:782-1634083200-1634169599@www.unglobalcompactghana.com
SUMMARY:YOUNG SDG INNOVATORS SUMMIT
DESCRIPTION:This Young SDG Leaders Summit will be the first Summit to celebrate and engage young corporate\nleaders and entrepreneurs to create the solutions for the future of sustainable business. This\ninaugural Summit is designed to be exclusively virtual year-after-year.
URL:https://www.unglobalcompactghana.com/cal-event/young-sdg-innovators-summit/
END:VEVENT
END:VCALENDAR