BEGIN:VCALENDAR
VERSION:2.0
PRODID:-//UN Global Compact Ghana - ECPv5.8.2//NONSGML v1.0//EN
CALSCALE:GREGORIAN
METHOD:PUBLISH
X-WR-CALNAME:UN Global Compact Ghana
X-ORIGINAL-URL:https://www.unglobalcompactghana.com
X-WR-CALDESC:Events for UN Global Compact Ghana
BEGIN:VTIMEZONE
TZID:UTC
BEGIN:STANDARD
TZOFFSETFROM:+0000
TZOFFSETTO:+0000
TZNAME:UTC
DTSTART:20210101T000000
END:STANDARD
END:VTIMEZONE
BEGIN:VEVENT
DTSTART;VALUE=DATE:20211016
DTEND;VALUE=DATE:20211017
DTSTAMP:20230827T123218
CREATED:20210611T152541Z
LAST-MODIFIED:20210611T152541Z
UID:772-1634342400-1634428799@www.unglobalcompactghana.com
SUMMARY:World Food Day
DESCRIPTION:World Food Day – It’s your day!\n\n\n\n\n\n\nCollective action across 150 countries is what makes World Food Day one of the most celebrated days of the UN calendar. Hundreds of events and outreach activities bring together governments\, businesses\, NGOs\, the media\, and general public. They promote worldwide awareness and action for those who suffer from hunger and for the need to ensure healthy diets for all. \n#WorldFoodDay 2021 will be marked a second time while countries around the world deal with the widespread effects of the global Covid-19 pandemic. It’s a time to look into the future we need to build together. \n 
URL:https://www.unglobalcompactghana.com/cal-event/world-food-day/
END:VEVENT
END:VCALENDAR