BEGIN:VCALENDAR
VERSION:2.0
PRODID:-//UN Global Compact Ghana - ECPv5.8.2//NONSGML v1.0//EN
CALSCALE:GREGORIAN
METHOD:PUBLISH
X-WR-CALNAME:UN Global Compact Ghana
X-ORIGINAL-URL:https://www.unglobalcompactghana.com
X-WR-CALDESC:Events for UN Global Compact Ghana
BEGIN:VTIMEZONE
TZID:UTC
BEGIN:STANDARD
TZOFFSETFROM:+0000
TZOFFSETTO:+0000
TZNAME:UTC
DTSTART:20210101T000000
END:STANDARD
END:VTIMEZONE
BEGIN:VEVENT
DTSTART;TZID=UTC:20210218T090000
DTEND;TZID=UTC:20210218T110000
DTSTAMP:20230827T123321
CREATED:20210204T120316Z
LAST-MODIFIED:20210216T153100Z
UID:576-1613638800-1613646000@www.unglobalcompactghana.com
SUMMARY:West African Gender Equality Initiative: Engaging and Communicating with Stakeholders to Support Gender Equality
DESCRIPTION:
URL:https://www.unglobalcompactghana.com/cal-event/west-african-gender-equality-initiative/
END:VEVENT
END:VCALENDAR