BEGIN:VCALENDAR
VERSION:2.0
PRODID:-//UN Global Compact Ghana - ECPv5.8.2//NONSGML v1.0//EN
CALSCALE:GREGORIAN
METHOD:PUBLISH
X-WR-CALNAME:UN Global Compact Ghana
X-ORIGINAL-URL:https://www.unglobalcompactghana.com
X-WR-CALDESC:Events for UN Global Compact Ghana
BEGIN:VTIMEZONE
TZID:UTC
BEGIN:STANDARD
TZOFFSETFROM:+0000
TZOFFSETTO:+0000
TZNAME:UTC
DTSTART:20210101T000000
END:STANDARD
END:VTIMEZONE
BEGIN:VEVENT
DTSTART;TZID=UTC:20210323T090000
DTEND;TZID=UTC:20210323T101500
DTSTAMP:20230827T123319
CREATED:20210319T093816Z
LAST-MODIFIED:20210319T093816Z
UID:731-1616490000-1616494500@www.unglobalcompactghana.com
SUMMARY:WEPs Gender Gap Analysis Tool Demonstration
DESCRIPTION:This session will include an introduction to the Women’s Empowerment Principles\, a demonstration on how to use the WEPs Tool and an invitation to sign up to the Target Gender Equality Initiative. \nThe Women’s Empowerment Principles (WEPs) are a set of Principles offering guidance to business on how to promote gender equality and women’s empowerment in the workplace\, marketplace and community. Established by UN Global Compact and UN Women\, the WEPs are informed by international labour and human rights standards and grounded in the recognition that businesses have a stake in\, and a responsibility for\, gender equality and women’s empowerment. \nThe WEPs Tool is a business-driven tool designed to help companies from around the world assess gender equality performance across the workplace\, marketplace\, and community. \nRegister here to join us – https://us02web.zoom.us/webinar/register/WN_HDdjSK4-TFyakw3CvkKjLQ \n 
URL:https://www.unglobalcompactghana.com/cal-event/weps-gender-gap-analysis-tool-demonstration/
END:VEVENT
END:VCALENDAR