BEGIN:VCALENDAR
VERSION:2.0
PRODID:-//UN Global Compact Ghana - ECPv5.8.2//NONSGML v1.0//EN
CALSCALE:GREGORIAN
METHOD:PUBLISH
X-WR-CALNAME:UN Global Compact Ghana
X-ORIGINAL-URL:https://www.unglobalcompactghana.com
X-WR-CALDESC:Events for UN Global Compact Ghana
BEGIN:VTIMEZONE
TZID:UTC
BEGIN:STANDARD
TZOFFSETFROM:+0000
TZOFFSETTO:+0000
TZNAME:UTC
DTSTART:20210101T000000
END:STANDARD
END:VTIMEZONE
BEGIN:VEVENT
DTSTART;VALUE=DATE:20211024
DTEND;VALUE=DATE:20211025
DTSTAMP:20230827T123232
CREATED:20210611T154915Z
LAST-MODIFIED:20210611T154915Z
UID:776-1635033600-1635119999@www.unglobalcompactghana.com
SUMMARY:United Nations Day
DESCRIPTION:UN Day marks the anniversary of the entry into force in 1945 of the UN Charter. With the ratification of this founding document by the majority of its signatories\, including the five permanent members of the Security Council\, the United Nations officially came into being. \nThere is no other global organization with the legitimacy\, convening power and normative impact of the United Nations. Today\, the urgency for all countries to come together\, to fulfil the promise of the nations united\, has rarely been greater. \n24 October has been celebrated as United Nations Day since 1948. In 1971\, the United Nations General Assembly recommended that the day be observed by Member States as a public holiday.
URL:https://www.unglobalcompactghana.com/cal-event/united-nations-day/
END:VEVENT
END:VCALENDAR