BEGIN:VCALENDAR
VERSION:2.0
PRODID:-//UN Global Compact Ghana - ECPv5.8.2//NONSGML v1.0//EN
CALSCALE:GREGORIAN
METHOD:PUBLISH
X-WR-CALNAME:UN Global Compact Ghana
X-ORIGINAL-URL:https://www.unglobalcompactghana.com
X-WR-CALDESC:Events for UN Global Compact Ghana
BEGIN:VTIMEZONE
TZID:UTC
BEGIN:STANDARD
TZOFFSETFROM:+0000
TZOFFSETTO:+0000
TZNAME:UTC
DTSTART:20220101T000000
END:STANDARD
END:VTIMEZONE
BEGIN:VEVENT
DTSTART;TZID=UTC:20220302T080000
DTEND;TZID=UTC:20220302T170000
DTSTAMP:20230827T123246
CREATED:20220602T152449Z
LAST-MODIFIED:20220602T152449Z
UID:839-1646208000-1646240400@www.unglobalcompactghana.com
SUMMARY:Target Gender Equality Module 3
DESCRIPTION:Target Gender Equality Module 3: Measuring and communicating progress
URL:https://www.unglobalcompactghana.com/cal-event/target-gender-equality-module-3/
END:VEVENT
END:VCALENDAR