BEGIN:VCALENDAR
VERSION:2.0
PRODID:-//UN Global Compact Ghana - ECPv5.8.2//NONSGML v1.0//EN
CALSCALE:GREGORIAN
METHOD:PUBLISH
X-WR-CALNAME:UN Global Compact Ghana
X-ORIGINAL-URL:https://www.unglobalcompactghana.com
X-WR-CALDESC:Events for UN Global Compact Ghana
BEGIN:VTIMEZONE
TZID:UTC
BEGIN:STANDARD
TZOFFSETFROM:+0000
TZOFFSETTO:+0000
TZNAME:UTC
DTSTART:20220101T000000
END:STANDARD
END:VTIMEZONE
BEGIN:VEVENT
DTSTART;TZID=UTC:20220119T080000
DTEND;TZID=UTC:20220119T170000
DTSTAMP:20230827T123135
CREATED:20220602T152117Z
LAST-MODIFIED:20220609T162712Z
UID:834-1642579200-1642611600@www.unglobalcompactghana.com
SUMMARY:Target Gender Equality Module 1
DESCRIPTION:Target Gender Equality Module 1 – Setting Targets & Defining Ambition
URL:https://www.unglobalcompactghana.com/cal-event/target-gender-equality-module-1/
ORGANIZER;CN="UN%20Global%20Compact":MAILTO:leaderssummit@unglobalcompact.org
END:VEVENT
END:VCALENDAR