BEGIN:VCALENDAR
VERSION:2.0
PRODID:-//UN Global Compact Ghana - ECPv5.8.2//NONSGML v1.0//EN
CALSCALE:GREGORIAN
METHOD:PUBLISH
X-WR-CALNAME:UN Global Compact Ghana
X-ORIGINAL-URL:https://www.unglobalcompactghana.com
X-WR-CALDESC:Events for UN Global Compact Ghana
BEGIN:VTIMEZONE
TZID:UTC
BEGIN:STANDARD
TZOFFSETFROM:+0000
TZOFFSETTO:+0000
TZNAME:UTC
DTSTART:20220101T000000
END:STANDARD
END:VTIMEZONE
BEGIN:VEVENT
DTSTART;TZID=UTC:20221110T080000
DTEND;TZID=UTC:20221110T170000
DTSTAMP:20230827T122256
CREATED:20221103T144336Z
LAST-MODIFIED:20221114T190009Z
UID:1048-1668067200-1668099600@www.unglobalcompactghana.com
SUMMARY:Standard Event (No RSVP or Tickets)
DESCRIPTION:This is where the description goes for events. You can add additional media\, conference schedules\, and more here. \n  \n 
URL:https://www.unglobalcompactghana.com/cal-event/new-event/
LOCATION:East Legon\, Lagos Avenue\, Accra\, 00233\, Ghana
ATTACH;FMTTYPE=image/webp:https://www.unglobalcompactghana.com/wp-content/uploads/2022/11/conference.webp
END:VEVENT
END:VCALENDAR