BEGIN:VCALENDAR
VERSION:2.0
PRODID:-//UN Global Compact Ghana - ECPv5.8.2//NONSGML v1.0//EN
CALSCALE:GREGORIAN
METHOD:PUBLISH
X-WR-CALNAME:UN Global Compact Ghana
X-ORIGINAL-URL:https://www.unglobalcompactghana.com
X-WR-CALDESC:Events for UN Global Compact Ghana
BEGIN:VTIMEZONE
TZID:UTC
BEGIN:STANDARD
TZOFFSETFROM:+0000
TZOFFSETTO:+0000
TZNAME:UTC
DTSTART:20220101T000000
END:STANDARD
END:VTIMEZONE
BEGIN:VEVENT
DTSTART;TZID=UTC:20221110T080000
DTEND;TZID=UTC:20221110T170000
DTSTAMP:20230827T121928
CREATED:20221103T153214Z
LAST-MODIFIED:20221115T091328Z
UID:1055-1668067200-1668099600@www.unglobalcompactghana.com
SUMMARY:Event in a Series
DESCRIPTION:For example\, let’s say you have an event that happens weekly every Monday. You fire up a new event in WordPress\, fill in the content\, then move to the recurring event settings. \nRecurring events is a feature that lets you create an event once\, then repeat it as many times as you need for as long as you want in any sort of pattern you like. \n  \n 
URL:https://www.unglobalcompactghana.com/cal-event/new-event-2/
LOCATION:East Legon\, Lagos Avenue\, Accra\, 00233\, Ghana
ATTACH;FMTTYPE=image/webp:https://www.unglobalcompactghana.com/wp-content/uploads/2022/11/culinary-hero-1.webp
END:VEVENT
END:VCALENDAR