BEGIN:VCALENDAR
VERSION:2.0
PRODID:-//UN Global Compact Ghana - ECPv5.8.2//NONSGML v1.0//EN
CALSCALE:GREGORIAN
METHOD:PUBLISH
X-WR-CALNAME:UN Global Compact Ghana
X-ORIGINAL-URL:https://www.unglobalcompactghana.com
X-WR-CALDESC:Events for UN Global Compact Ghana
BEGIN:VTIMEZONE
TZID:UTC
BEGIN:STANDARD
TZOFFSETFROM:+0000
TZOFFSETTO:+0000
TZNAME:UTC
DTSTART:20210101T000000
END:STANDARD
END:VTIMEZONE
BEGIN:VEVENT
DTSTART;VALUE=DATE:20210812
DTEND;VALUE=DATE:20210813
DTSTAMP:20230827T123247
CREATED:20210611T150724Z
LAST-MODIFIED:20210611T150724Z
UID:767-1628726400-1628812799@www.unglobalcompactghana.com
SUMMARY:International Youth Day
DESCRIPTION:International Youth Day (IYD) gives an opportunity to celebrate and mainstream young peoples’ voices\, actions and initiatives\, as well as their meaningful\, universal and equitable engagement. The commemoration will take the form of a podcast-style discussion that is hosted by youth for youth\, together with independently organized commemorations around the world that recognize the importance of youth participation in political\, economic and social life and processes.
URL:https://www.unglobalcompactghana.com/cal-event/international-youth-day/
END:VEVENT
END:VCALENDAR