BEGIN:VCALENDAR
VERSION:2.0
PRODID:-//UN Global Compact Ghana - ECPv5.8.2//NONSGML v1.0//EN
CALSCALE:GREGORIAN
METHOD:PUBLISH
X-WR-CALNAME:UN Global Compact Ghana
X-ORIGINAL-URL:https://www.unglobalcompactghana.com
X-WR-CALDESC:Events for UN Global Compact Ghana
BEGIN:VTIMEZONE
TZID:UTC
BEGIN:STANDARD
TZOFFSETFROM:+0000
TZOFFSETTO:+0000
TZNAME:UTC
DTSTART:20210101T000000
END:STANDARD
END:VTIMEZONE
BEGIN:VEVENT
DTSTART;TZID=UTC:20211125T093000
DTEND;TZID=UTC:20211125T093000
DTSTAMP:20230827T123159
CREATED:20211112T204201Z
LAST-MODIFIED:20211112T204201Z
UID:809-1637832600-1637832600@www.unglobalcompactghana.com
SUMMARY:Green Finance Dialogue
DESCRIPTION:“The Green Finance Dialogue: “Connecting Businesses to Green Investment Opportunities” is brought to you by the UN Global Compact Network Ghana and Arocha Ghana. \nThe objectives of the event are:\n•	To create awareness on green investments opportunities;\n•	To provide information on how businesses can access these opportunities;\n•	To encourage businesses to adopt greener ways of doing business;\n•	To create a platform for knowledge and experience sharing. \nKindly contact Mina Pokuaa Agyemang on mina.agyemang@arocha.org / 0244437099 for any further enquiries.
URL:https://www.unglobalcompactghana.com/cal-event/green-finance-dialogue/
END:VEVENT
END:VCALENDAR