BEGIN:VCALENDAR
VERSION:2.0
PRODID:-//UN Global Compact Ghana - ECPv5.8.2//NONSGML v1.0//EN
CALSCALE:GREGORIAN
METHOD:PUBLISH
X-WR-CALNAME:UN Global Compact Ghana
X-ORIGINAL-URL:https://www.unglobalcompactghana.com
X-WR-CALDESC:Events for UN Global Compact Ghana
BEGIN:VTIMEZONE
TZID:UTC
BEGIN:STANDARD
TZOFFSETFROM:+0000
TZOFFSETTO:+0000
TZNAME:UTC
DTSTART:20210101T000000
END:STANDARD
END:VTIMEZONE
BEGIN:VEVENT
DTSTART;VALUE=DATE:20210204
DTEND;VALUE=DATE:20210205
DTSTAMP:20230827T123341
CREATED:20210204T120257Z
LAST-MODIFIED:20210211T090022Z
UID:574-1612396800-1612483199@www.unglobalcompactghana.com
SUMMARY:Board Meeting
DESCRIPTION:
URL:https://www.unglobalcompactghana.com/cal-event/board-meeting/
END:VEVENT
END:VCALENDAR